BEGIN:VCALENDAR
VERSION:2.0
PRODID:-//wp-events-plugin.com//7.2.3.1//EN
TZID:Europe/Berlin
X-WR-TIMEZONE:Europe/Berlin
BEGIN:VEVENT
UID:954@kvm-schwerin.de
DTSTART;TZID=Europe/Berlin:20260316T170000
DTEND;TZID=Europe/Berlin:20260316T183000
DTSTAMP:20260310T091810Z
URL:https://kvm-schwerin.de/events/__trashed-9/
SUMMARY:Zwischen den Welten- ein Austausch zum Thema Zugehörigkeit bei
DESCRIPTION:Lasst uns zusammenkommen und miteinander reden!\nHabt Ihr auch 
 das Gefühl\, nicht so ganz in beide Welten zu passen?\nWas vermisst Ihr u
 nd welche Vorurteile habt Ihr satt?\nIch freue mich darauf\, eure Perspekt
 iven zu hören. Die Lichtseiten gemeinsam zu feiern und auch Wege zu finde
 n mit den Schattenseiten umzugehen.
ATTACH;FMTTYPE=image/jpeg:https://kvm-schwerin.de/wp-content/uploads/2026/
 03/WhatsApp-Image-2026-03-08-at-20.40.09.jpeg
CATEGORIES:öffentliche Veranstaltung
END:VEVENT
BEGIN:VTIMEZONE
TZID:Europe/Berlin
X-LIC-LOCATION:Europe/Berlin
BEGIN:STANDARD
DTSTART:20251026T020000
TZOFFSETFROM:+0200
TZOFFSETTO:+0100
TZNAME:CET
END:STANDARD
END:VTIMEZONE
END:VCALENDAR