BEGIN:VCALENDAR
VERSION:2.0
PRODID:-//wp-events-plugin.com//7.2.3.1//EN
TZID:Europe/Berlin
X-WR-TIMEZONE:Europe/Berlin
BEGIN:VEVENT
UID:630@kvm-schwerin.de
DTSTART;TZID=Europe/Berlin:20260228T123000
DTEND;TZID=Europe/Berlin:20260228T153000
DTSTAMP:20260124T091814Z
URL:https://kvm-schwerin.de/events/alcohol-ink-stammtisch/
SUMMARY:Alcohol-Ink Stammtisch
DESCRIPTION:Stammtisch für alle alten Hasen in der Alcohol-Inc Malerei.
CATEGORIES:nicht öffentliche Veranstaltung,öffentliche Veranstaltung
END:VEVENT
BEGIN:VTIMEZONE
TZID:Europe/Berlin
X-LIC-LOCATION:Europe/Berlin
BEGIN:STANDARD
DTSTART:20251026T020000
TZOFFSETFROM:+0200
TZOFFSETTO:+0100
TZNAME:CET
END:STANDARD
END:VTIMEZONE
END:VCALENDAR