BEGIN:VCALENDAR
VERSION:2.0
PRODID:-//wp-events-plugin.com//7.2.3.1//EN
TZID:Europe/Berlin
X-WR-TIMEZONE:Europe/Berlin
BEGIN:VEVENT
UID:631@kvm-schwerin.de
DTSTART;TZID=Europe/Berlin:20260207T180000
DTEND;TZID=Europe/Berlin:20260207T180000
DTSTAMP:20260122T083617Z
URL:https://kvm-schwerin.de/events/kulturtreff-meets-bollywood/
SUMMARY:Kulturtreff "meets Bollywood"
DESCRIPTION:Yasmin und Ruthu veranstalten in Kooperation mit Migravoices di
 esen Kulturtreff\, zu dem jede*r herzlich willkommen ist.\nDer Abend begin
 nt mit einem Bollywood Film.\nKommt vorbei!
CATEGORIES:öffentliche Veranstaltung
END:VEVENT
BEGIN:VTIMEZONE
TZID:Europe/Berlin
X-LIC-LOCATION:Europe/Berlin
BEGIN:STANDARD
DTSTART:20251026T020000
TZOFFSETFROM:+0200
TZOFFSETTO:+0100
TZNAME:CET
END:STANDARD
END:VTIMEZONE
END:VCALENDAR