BEGIN:VCALENDAR
VERSION:2.0
PRODID:-//wp-events-plugin.com//7.2.3.1//EN
TZID:Europe/Berlin
X-WR-TIMEZONE:Europe/Berlin
BEGIN:VEVENT
UID:964@kvm-schwerin.de
DTSTART;TZID=Europe/Berlin:20260302T180000
DTEND;TZID=Europe/Berlin:20260302T220000
DTSTAMP:20260310T091217Z
URL:https://kvm-schwerin.de/events/lern-und-arbeitsort-4/
SUMMARY:Lern- und Arbeitsort
DESCRIPTION:
ATTACH;FMTTYPE=image/jpeg:https://kvm-schwerin.de/wp-content/uploads/2025/
 09/WhatsApp-Image-2025-09-21-at-13.14.28.jpeg
CATEGORIES:öffentliche Veranstaltung
END:VEVENT
BEGIN:VTIMEZONE
TZID:Europe/Berlin
X-LIC-LOCATION:Europe/Berlin
BEGIN:STANDARD
DTSTART:20251026T020000
TZOFFSETFROM:+0200
TZOFFSETTO:+0100
TZNAME:CET
END:STANDARD
END:VTIMEZONE
END:VCALENDAR