BEGIN:VCALENDAR
VERSION:2.0
PRODID:-//wp-events-plugin.com//7.2.3.1//EN
TZID:Europe/Berlin
X-WR-TIMEZONE:Europe/Berlin
BEGIN:VEVENT
UID:961@kvm-schwerin.de
DTSTART;TZID=Europe/Berlin:20260402T183000
DTEND;TZID=Europe/Berlin:20260402T213000
DTSTAMP:20260309T183952Z
URL:https://kvm-schwerin.de/events/meet-5-donnerstagstreffen/
SUMMARY:Meet 5 Donnerstagstreffen
DESCRIPTION:Gemeinsam klönen und spielen
ATTACH;FMTTYPE=image/jpeg:https://kvm-schwerin.de/wp-content/uploads/2026/
 03/WhatsApp-Image-2026-03-08-at-20.38.34.jpeg
CATEGORIES:öffentliche Veranstaltung
END:VEVENT
BEGIN:VTIMEZONE
TZID:Europe/Berlin
X-LIC-LOCATION:Europe/Berlin
BEGIN:DAYLIGHT
DTSTART:20260329T030000
TZOFFSETFROM:+0100
TZOFFSETTO:+0200
TZNAME:CEST
END:DAYLIGHT
END:VTIMEZONE
END:VCALENDAR