BEGIN:VCALENDAR
VERSION:2.0
PRODID:-//wp-events-plugin.com//7.2.3.1//EN
TZID:Europe/Berlin
X-WR-TIMEZONE:Europe/Berlin
BEGIN:VEVENT
UID:1012@kvm-schwerin.de
DTSTART;TZID=Europe/Berlin:20260502T150000
DTEND;TZID=Europe/Berlin:20261107T170000
DTSTAMP:20260424T072437Z
URL:https://kvm-schwerin.de/events/sketch-flow-zeichenkurs/
SUMMARY:Sketch Flow - Zeichenkurs
DESCRIPTION:
ATTACH;FMTTYPE=image/jpeg:https://kvm-schwerin.de/wp-content/uploads/2026/
 04/WhatsApp-Image-2026-04-22-at-22.19.25.jpeg
CATEGORIES:öffentliche Veranstaltung
END:VEVENT
BEGIN:VTIMEZONE
TZID:Europe/Berlin
X-LIC-LOCATION:Europe/Berlin
BEGIN:DAYLIGHT
DTSTART:20260329T030000
TZOFFSETFROM:+0100
TZOFFSETTO:+0200
TZNAME:CEST
END:DAYLIGHT
BEGIN:STANDARD
DTSTART:20261025T020000
TZOFFSETFROM:+0200
TZOFFSETTO:+0100
TZNAME:CET
END:STANDARD
END:VTIMEZONE
END:VCALENDAR