BEGIN:VCALENDAR
VERSION:2.0
PRODID:-//wp-events-plugin.com//7.2.3.1//EN
TZID:Europe/Berlin
X-WR-TIMEZONE:Europe/Berlin
BEGIN:VEVENT
UID:1028@kvm-schwerin.de
DTSTART;TZID=Europe/Berlin:20260415T150000
DTEND;TZID=Europe/Berlin:20260826T170000
DTSTAMP:20260424T073137Z
URL:https://kvm-schwerin.de/events/spielend-deutsch-lernen/
SUMMARY:Spielend deutsch lernen
DESCRIPTION:Spielenachmittage vor allem mit Menschen aus der Ukraine.\n\n&n
 bsp\;
ATTACH;FMTTYPE=image/jpeg:https://kvm-schwerin.de/wp-content/uploads/2026/
 02/WhatsApp-Image-2026-02-07-at-10.21.56.jpeg
CATEGORIES:öffentliche Veranstaltung
END:VEVENT
BEGIN:VTIMEZONE
TZID:Europe/Berlin
X-LIC-LOCATION:Europe/Berlin
BEGIN:DAYLIGHT
DTSTART:20260329T030000
TZOFFSETFROM:+0100
TZOFFSETTO:+0200
TZNAME:CEST
END:DAYLIGHT
END:VTIMEZONE
END:VCALENDAR