BEGIN:VCALENDAR
VERSION:2.0
PRODID:-//wp-events-plugin.com//7.2.3.1//EN
TZID:Europe/Berlin
X-WR-TIMEZONE:Europe/Berlin
BEGIN:VEVENT
UID:621@kvm-schwerin.de
DTSTART;TZID=Europe/Berlin:20260116T173000
DTEND;TZID=Europe/Berlin:20260116T203000
DTSTAMP:20260115T155255Z
URL:https://kvm-schwerin.de/events/upcycling-lampenschirm-workshop/
SUMMARY:Upcycling Lampenschirm Workshop
DESCRIPTION:In diesem Workshop entsteht ein handgewickelter Lampenschirm au
 s hochwertiger Wolle in vielen tollen Farben. Dein ganz persönliches Inte
 rieur It-Piece 2026. \n\nWas kostet der Workshop?\nDa wir mit sehr hochwe
 rtiger Wolle\, teilweise Schurwolle\, arbeiten und die Lampenschirme auch 
 aus einem hochwertigen Material sind\, liegt der Preis bei 69€ pro Perso
 n. Das beinhaltet alle Materialkosten und du gehst mit etwas unfassbar sch
 önem nach Hause.\n\n\nWie nehme ich teil?\nKaufe dir ein Ticket hier: Lin
 k\noder schreibe mir per DM über meinen Insta-Kanal und melde dich verbin
 dlich an: frau mimi \n\nWie groß ist der Lampenschirm? \nLampenschirm k
 onisch 10x20x20cm\n\n\nWie lange dauert der Workshop? \nDer Workshop daue
 rt 3h. Solltest du nicht fertig werden\, kannst du die restliche Wolle ger
 ne mit nach Hause nehmen und dort in aller Ruhe dein Projekt beenden.\n\nI
 st eine Lampenaufhängung dabei? \nEine Lampenaufhängung ist nicht im Wo
 rkshop enthalten\, da die Gegebenheiten und Kabellängen bei jedem Zuhause
  unterschiedlich sind. So kannst du die Aufhängung passend zu deinem Raum
  selbst auswählen.
ATTACH;FMTTYPE=image/jpeg:https://kvm-schwerin.de/wp-content/uploads/2026/
 01/Bildschirmfoto-2026-01-05-um-15.26.25.png
CATEGORIES:öffentliche Veranstaltung
END:VEVENT
BEGIN:VTIMEZONE
TZID:Europe/Berlin
X-LIC-LOCATION:Europe/Berlin
BEGIN:STANDARD
DTSTART:20251026T020000
TZOFFSETFROM:+0200
TZOFFSETTO:+0100
TZNAME:CET
END:STANDARD
END:VTIMEZONE
END:VCALENDAR